BEGIN:VCALENDAR
VERSION:2.0
PRODID:-//Kauai Invasive Species Committee (KISC) - ECPv6.15.20//NONSGML v1.0//EN
CALSCALE:GREGORIAN
METHOD:PUBLISH
X-ORIGINAL-URL:https://www.kauaiisc.org
X-WR-CALDESC:Events for Kauai Invasive Species Committee (KISC)
REFRESH-INTERVAL;VALUE=DURATION:PT1H
X-Robots-Tag:noindex
X-PUBLISHED-TTL:PT1H
BEGIN:VTIMEZONE
TZID:Pacific/Honolulu
BEGIN:STANDARD
TZOFFSETFROM:-1000
TZOFFSETTO:-1000
TZNAME:HST
DTSTART:20220101T000000
END:STANDARD
END:VTIMEZONE
BEGIN:VEVENT
DTSTART;TZID=Pacific/Honolulu:20230716T110000
DTEND;TZID=Pacific/Honolulu:20230716T160000
DTSTAMP:20260421T050241
CREATED:20230712T172657Z
LAST-MODIFIED:20230712T172752Z
UID:10301-1689505200-1689523200@www.kauaiisc.org
SUMMARY:Waipā Summer Festival Pop- up
DESCRIPTION:Come visit the KISC Outreach Team at this years Waipā festival. There will be local vendors\, food trucks\, and music throughout the day.
URL:https://www.kauaiisc.org/calendar/waipa-summer-festival-pop-up/
LOCATION:Waipā Summer Festival\, 5-5785 Kuhio Hwy # A\, Hanalei\, HI\, 96714
CATEGORIES:Pop up Events
ATTACH;FMTTYPE=image/png:https://www.kauaiisc.org/wp-content/uploads/2023/07/Waipa-1-round-logo.png
END:VEVENT
BEGIN:VEVENT
DTSTART;TZID=Pacific/Honolulu:20230323T160000
DTEND;TZID=Pacific/Honolulu:20230323T170000
DTSTAMP:20260421T050241
CREATED:20230308T124516Z
LAST-MODIFIED:20230308T124516Z
UID:9150-1679587200-1679590800@www.kauaiisc.org
SUMMARY:Protecting forests across Hawaii: Busting the Myths! Webinar
DESCRIPTION:
URL:https://www.kauaiisc.org/calendar/protecting-forests-across-hawaii-busting-the-myths-webinar/
LOCATION:HI
CATEGORIES:Webinar
ATTACH;FMTTYPE=image/jpeg:https://www.kauaiisc.org/wp-content/uploads/2023/03/2-23-23-KISC-watershed.jpg
END:VEVENT
END:VCALENDAR